BEGIN:VCALENDAR
VERSION:2.0
PRODID:-//Pinebrook Family Answers - ECPv6.15.19//NONSGML v1.0//EN
CALSCALE:GREGORIAN
METHOD:PUBLISH
X-ORIGINAL-URL:https://pbfalv.org
X-WR-CALDESC:Events for Pinebrook Family Answers
REFRESH-INTERVAL;VALUE=DURATION:PT1H
X-Robots-Tag:noindex
X-PUBLISHED-TTL:PT1H
BEGIN:VTIMEZONE
TZID:America/New_York
BEGIN:DAYLIGHT
TZOFFSETFROM:-0500
TZOFFSETTO:-0400
TZNAME:EDT
DTSTART:20250309T070000
END:DAYLIGHT
BEGIN:STANDARD
TZOFFSETFROM:-0400
TZOFFSETTO:-0500
TZNAME:EST
DTSTART:20251102T060000
END:STANDARD
BEGIN:DAYLIGHT
TZOFFSETFROM:-0500
TZOFFSETTO:-0400
TZNAME:EDT
DTSTART:20260308T070000
END:DAYLIGHT
BEGIN:STANDARD
TZOFFSETFROM:-0400
TZOFFSETTO:-0500
TZNAME:EST
DTSTART:20261101T060000
END:STANDARD
BEGIN:DAYLIGHT
TZOFFSETFROM:-0500
TZOFFSETTO:-0400
TZNAME:EDT
DTSTART:20270314T070000
END:DAYLIGHT
BEGIN:STANDARD
TZOFFSETFROM:-0400
TZOFFSETTO:-0500
TZNAME:EST
DTSTART:20271107T060000
END:STANDARD
END:VTIMEZONE
BEGIN:VEVENT
DTSTART;TZID=America/New_York:20260305T180000
DTEND;TZID=America/New_York:20260305T190000
DTSTAMP:20260423T051614
CREATED:20260123T164743Z
LAST-MODIFIED:20260123T164816Z
UID:10000151-1772733600-1772737200@pbfalv.org
SUMMARY:Resource Parent Information Session
DESCRIPTION:These information sessions will take place virtually. Contact Heidi Hoffer (hhoffer@pbfalv.org) for more information.
URL:https://pbfalv.org/event/resource-parent-information-session/2026-03-05/
ORGANIZER;CN="Heidi Hoffer":MAILTO:hhoffer@pbfalv.org
LOCATION:https://pbfalv.org/event/resource-parent-information-session/2026-03-05/
END:VEVENT
END:VCALENDAR